BEGIN:VCALENDAR
VERSION:2.0
PRODID:-//Agenda do Vinho - ECPv4.9.0//NONSGML v1.0//EN
CALSCALE:GREGORIAN
METHOD:PUBLISH
X-WR-CALNAME:Agenda do Vinho
X-ORIGINAL-URL:https://agendadovinho.com.br
X-WR-CALDESC:Eventos para Agenda do Vinho
BEGIN:VEVENT
DTSTART;TZID=America/Sao_Paulo:20200501T200000
DTEND;TZID=America/Sao_Paulo:20200501T200000
DTSTAMP:20260426T024103
CREATED:20200430T145217Z
LAST-MODIFIED:20200430T145217Z
UID:13009-1588363200-1588363200@agendadovinho.com.br
SUMMARY:Sobre as avaliações de vinho
DESCRIPTION:Dia 01/05 no perfil da @latinawineapp um papo sobre as avaliações de vinhos! \n
URL:https://agendadovinho.com.br/event/sobre-as-avaliacoes-de-vinho/
LOCATION:Instagram
CATEGORIES:Curso técnico,Online
ATTACH;FMTTYPE=image/jpeg:https://agendadovinho.com.br/wp-content/uploads/2020/04/boastacas_010520.jpg
END:VEVENT
END:VCALENDAR