BEGIN:VCALENDAR
VERSION:2.0
PRODID:-//Agenda do Vinho - ECPv4.9.0//NONSGML v1.0//EN
CALSCALE:GREGORIAN
METHOD:PUBLISH
X-WR-CALNAME:Agenda do Vinho
X-ORIGINAL-URL:https://agendadovinho.com.br
X-WR-CALDESC:Eventos para Agenda do Vinho
BEGIN:VEVENT
DTSTART;TZID=America/Sao_Paulo:20200930T200000
DTEND;TZID=America/Sao_Paulo:20200930T220000
DTSTAMP:20260423T015838
CREATED:20200919T211836Z
LAST-MODIFIED:20200919T211836Z
UID:15988-1601496000-1601503200@agendadovinho.com.br
SUMMARY:Sicilia - terroir de mar e fogo
DESCRIPTION:Embarque nessa viagem pela Sicilía e conheça uvas autóctones e seus vinhos de solo vulcânico. Na opção tradicional serão 6 vinhos degustados\, mas há opções a la carte ou apenas a masterclass. Confira os detalhes aqui. \n
URL:https://agendadovinho.com.br/event/sicilia-terroir-de-mar-e-fogo/
LOCATION:Vídeo conferência
CATEGORIES:Degustação,Online
ATTACH;FMTTYPE=image/png:https://agendadovinho.com.br/wp-content/uploads/2020/09/Agenda_Sicilia.png
END:VEVENT
END:VCALENDAR