BEGIN:VCALENDAR
VERSION:2.0
PRODID:-//Agenda do Vinho - ECPv4.9.0//NONSGML v1.0//EN
CALSCALE:GREGORIAN
METHOD:PUBLISH
X-WR-CALNAME:Agenda do Vinho
X-ORIGINAL-URL:https://agendadovinho.com.br
X-WR-CALDESC:Eventos para Agenda do Vinho
BEGIN:VEVENT
DTSTART;TZID=America/Sao_Paulo:20200117T190000
DTEND;TZID=America/Sao_Paulo:20200117T235900
DTSTAMP:20260425T221240
CREATED:20200108T193256Z
LAST-MODIFIED:20200108T193256Z
UID:10495-1579287600-1579305540@agendadovinho.com.br
SUMMARY:#Sexxxtouu Happy Wine no CW&Co
DESCRIPTION:17/01 (sexta-feira) #Sexxxtouu Happy Wine no CW&Co \nUma happy hour dedicada aos vinhos! Sempre às sextas-feiras\, quem for no CW&Co e será recebido com uma taça de vinho (tinto ou branco). \nA partir das 18h\, oWine Bar estará aberto e você poderá desfrutar de muita música\, vinho\, cervejas especias\, comidinahs\, queijos artesanais\, tábuas de frios\, um ambiente descolado e descontraído. Venha conhecer uma carta de vinhos sensacional que agrada a todos os paladares. \nValores\nCouvert: R$0\,00 (antecipado) e R$15\,00 na hora. \nVinhos: Importadora Videira\nEmpório: Empório São Pedro\nCafé: Mokado\nCerveja Artesanal: 4 Poderes\n \nInformações: (61) 9.8432-3008\nInstagram: @coffeewineco\nEndereço: SIG Quadra 3 Bloco C loja 68\nHorário de funcionamento:\nSeg/Ter: 7h as 20h\nQua/Qui/Sex/Sab: 7h as 02h \n
URL:https://agendadovinho.com.br/event/sexxxtouu-happy-wine-no-cwco/
LOCATION:CW&Co | Coffe\, Wine &Co\, SIG Quadra 3 Bloco C - Zona Industrial\, Brasília\, DF\, 70610-433\, Brasil
CATEGORIES:Degustação,DF - Brasília
ATTACH;FMTTYPE=image/jpeg:https://agendadovinho.com.br/wp-content/uploads/2020/01/happy-wine_170120.jpg
END:VEVENT
END:VCALENDAR