BEGIN:VCALENDAR
VERSION:2.0
PRODID:-//Agenda do Vinho - ECPv4.9.0//NONSGML v1.0//EN
CALSCALE:GREGORIAN
METHOD:PUBLISH
X-WR-CALNAME:Agenda do Vinho
X-ORIGINAL-URL:https://agendadovinho.com.br
X-WR-CALDESC:Eventos para Agenda do Vinho
BEGIN:VEVENT
DTSTART;TZID=America/Sao_Paulo:20200604T140000
DTEND;TZID=America/Sao_Paulo:20200604T190000
DTSTAMP:20260425T133341
CREATED:20200531T160206Z
LAST-MODIFIED:20200531T160206Z
UID:13800-1591279200-1591297200@agendadovinho.com.br
SUMMARY:Semana do Vinho e da Gastronomia Brasileira
DESCRIPTION:01 a 05 de junho \n
URL:https://agendadovinho.com.br/event/semana-do-vinho-e-da-gastronomia-brasileira-4/
LOCATION:Instagram
CATEGORIES:Curso técnico,Online
ATTACH;FMTTYPE=image/jpeg:https://agendadovinho.com.br/wp-content/uploads/2020/05/vinhonavila_010620.jpg
END:VEVENT
END:VCALENDAR