BEGIN:VCALENDAR
VERSION:2.0
PRODID:-//Agenda do Vinho - ECPv4.9.0//NONSGML v1.0//EN
CALSCALE:GREGORIAN
METHOD:PUBLISH
X-WR-CALNAME:Agenda do Vinho
X-ORIGINAL-URL:https://agendadovinho.com.br
X-WR-CALDESC:Eventos para Agenda do Vinho
BEGIN:VEVENT
DTSTART;TZID=America/Sao_Paulo:20200930T210000
DTEND;TZID=America/Sao_Paulo:20200930T210000
DTSTAMP:20260423T063024
CREATED:20200925T145337Z
LAST-MODIFIED:20200925T145337Z
UID:16055-1601499600-1601499600@agendadovinho.com.br
SUMMARY:Semana do vinho - Curso gratuito
DESCRIPTION:30/set a 06/out – 21:00 \n
URL:https://agendadovinho.com.br/event/semana-do-vinho-curso-gratuito/
LOCATION:Vídeo conferência
ATTACH;FMTTYPE=image/jpeg:https://agendadovinho.com.br/wp-content/uploads/2020/09/vinhosdecorte_300920.jpg
END:VEVENT
END:VCALENDAR