BEGIN:VCALENDAR
VERSION:2.0
PRODID:-//Agenda do Vinho - ECPv4.9.0//NONSGML v1.0//EN
CALSCALE:GREGORIAN
METHOD:PUBLISH
X-WR-CALNAME:Agenda do Vinho
X-ORIGINAL-URL:https://agendadovinho.com.br
X-WR-CALDESC:Eventos para Agenda do Vinho
BEGIN:VEVENT
DTSTART;TZID=America/Sao_Paulo:20201103T180000
DTEND;TZID=America/Sao_Paulo:20201103T180000
DTSTAMP:20260425T133010
CREATED:20201103T143758Z
LAST-MODIFIED:20201103T143758Z
UID:16460-1604426400-1604426400@agendadovinho.com.br
SUMMARY:Semana do Jerez
DESCRIPTION:03/nov – 18:00 \n
URL:https://agendadovinho.com.br/event/semana-do-jerez/
LOCATION:Instagram
CATEGORIES:Curso técnico,Online
ATTACH;FMTTYPE=image/jpeg:https://agendadovinho.com.br/wp-content/uploads/2020/11/abs_sp_031120.jpg
END:VEVENT
END:VCALENDAR