BEGIN:VCALENDAR
VERSION:2.0
PRODID:-//Agenda do Vinho - ECPv4.9.0//NONSGML v1.0//EN
CALSCALE:GREGORIAN
METHOD:PUBLISH
X-WR-CALNAME:Agenda do Vinho
X-ORIGINAL-URL:https://agendadovinho.com.br
X-WR-CALDESC:Eventos para Agenda do Vinho
BEGIN:VEVENT
DTSTART;TZID=America/Sao_Paulo:20201105T180000
DTEND;TZID=America/Sao_Paulo:20201105T180000
DTSTAMP:20260423T015915
CREATED:20201105T180226Z
LAST-MODIFIED:20201105T180226Z
UID:16506-1604599200-1604599200@agendadovinho.com.br
SUMMARY:Semana do Jerez - descomplicando um clássico
DESCRIPTION:05/nov – 18:00 \n
URL:https://agendadovinho.com.br/event/semana-do-jerez-descomplicando-um-classico/
LOCATION:Instagram
CATEGORIES:Curso técnico,Online
ATTACH;FMTTYPE=image/jpeg:https://agendadovinho.com.br/wp-content/uploads/2020/11/pro_vinho_br_051120.jpg
END:VEVENT
END:VCALENDAR