BEGIN:VCALENDAR
VERSION:2.0
PRODID:-//Agenda do Vinho - ECPv4.9.0//NONSGML v1.0//EN
CALSCALE:GREGORIAN
METHOD:PUBLISH
X-WR-CALNAME:Agenda do Vinho
X-ORIGINAL-URL:https://agendadovinho.com.br
X-WR-CALDESC:Eventos para Agenda do Vinho
BEGIN:VEVENT
DTSTART;TZID=America/Sao_Paulo:20201015T194200
DTEND;TZID=America/Sao_Paulo:20201015T194200
DTSTAMP:20260423T063101
CREATED:20201015T145035Z
LAST-MODIFIED:20201015T145035Z
UID:16209-1602790920-1602790920@agendadovinho.com.br
SUMMARY:Santa Helena\, 78 anos de história
DESCRIPTION:15/out – 19:42 \n
URL:https://agendadovinho.com.br/event/santa-helena-78-anos-de-historia/
LOCATION:Instagram
CATEGORIES:Curso técnico,Online
ATTACH;FMTTYPE=image/jpeg:https://agendadovinho.com.br/wp-content/uploads/2020/10/pro_vinho_br_151020-1.jpg
END:VEVENT
END:VCALENDAR