BEGIN:VCALENDAR
VERSION:2.0
PRODID:-//Agenda do Vinho - ECPv4.9.0//NONSGML v1.0//EN
CALSCALE:GREGORIAN
METHOD:PUBLISH
X-WR-CALNAME:Agenda do Vinho
X-ORIGINAL-URL:https://agendadovinho.com.br
X-WR-CALDESC:Eventos para Agenda do Vinho
BEGIN:VEVENT
DTSTART;TZID=America/Sao_Paulo:20200319T193000
DTEND;TZID=America/Sao_Paulo:20200319T193000
DTSTAMP:20260425T220216
CREATED:20200312T181202Z
LAST-MODIFIED:20200312T181202Z
UID:12111-1584646200-1584646200@agendadovinho.com.br
SUMMARY:Sabores da França
DESCRIPTION:A França tem seus encantos e charmes\, sempre aliados a uma boa gastronomia e vinhos \, por isso o especialista @robertoramirezbanos da @catasycavas ira promover uma incrível experiência de Sabores da França – Saveurs de France\, junto com @levinbistrodf.\nNosso encontro será o dia 19 de Março\, às 19:30 com um jantar harmonizado em 4 tempos.\nFaça sua reserva\, vagas limitadas\, (61)981183808\, o valor desta experiência sera de R$190 individual. \n
URL:https://agendadovinho.com.br/event/sabores-da-franca/
LOCATION:Le Vin Brasília\, ParkShopping SAI/SO Área 6580 Espaço Gourmet Loja 249 K2\, Brasília\, DF\, 71219-900\, Brasil
CATEGORIES:DF - Brasília,Jantar harmonizado
ATTACH;FMTTYPE=image/jpeg:https://agendadovinho.com.br/wp-content/uploads/2020/03/sabores-da-frança_190320.jpg
END:VEVENT
END:VCALENDAR