BEGIN:VCALENDAR
VERSION:2.0
PRODID:-//Agenda do Vinho - ECPv4.9.0//NONSGML v1.0//EN
CALSCALE:GREGORIAN
METHOD:PUBLISH
X-WR-CALNAME:Agenda do Vinho
X-ORIGINAL-URL:https://agendadovinho.com.br
X-WR-CALDESC:Eventos para Agenda do Vinho
BEGIN:VEVENT
DTSTART;TZID=America/Sao_Paulo:20200501T200000
DTEND;TZID=America/Sao_Paulo:20200501T200000
DTSTAMP:20260426T022251
CREATED:20200430T145304Z
LAST-MODIFIED:20200430T145304Z
UID:13010-1588363200-1588363200@agendadovinho.com.br
SUMMARY:Rioja
DESCRIPTION:01/05 – 20h \n
URL:https://agendadovinho.com.br/event/rioja/
LOCATION:Instagram
CATEGORIES:Curso técnico,Online
ATTACH;FMTTYPE=image/jpeg:https://agendadovinho.com.br/wp-content/uploads/2020/04/diegomarra.vinhos_010520.jpg
END:VEVENT
END:VCALENDAR