BEGIN:VCALENDAR
VERSION:2.0
PRODID:-//Agenda do Vinho - ECPv4.9.0//NONSGML v1.0//EN
CALSCALE:GREGORIAN
METHOD:PUBLISH
X-WR-CALNAME:Agenda do Vinho
X-ORIGINAL-URL:https://agendadovinho.com.br
X-WR-CALDESC:Eventos para Agenda do Vinho
BEGIN:VEVENT
DTSTART;TZID=America/Sao_Paulo:20200623T210000
DTEND;TZID=America/Sao_Paulo:20200623T210000
DTSTAMP:20260425T183902
CREATED:20200621T141934Z
LAST-MODIFIED:20200621T141934Z
UID:14427-1592946000-1592946000@agendadovinho.com.br
SUMMARY:Revolução Wine: a história do fundador do maior e-commerce de vinhos da América Latina
DESCRIPTION:23/06 – 21h \n
URL:https://agendadovinho.com.br/event/revolucao-wine-a-historia-do-fundador-do-maior-e-commerce-de-vinhos-da-america-latina/
LOCATION:Instagram
CATEGORIES:Curso técnico,Online
ATTACH;FMTTYPE=image/jpeg:https://agendadovinho.com.br/wp-content/uploads/2020/06/pro_catiaraulino_230620.jpg
END:VEVENT
END:VCALENDAR