BEGIN:VCALENDAR
VERSION:2.0
PRODID:-//Agenda do Vinho - ECPv4.9.0//NONSGML v1.0//EN
CALSCALE:GREGORIAN
METHOD:PUBLISH
X-WR-CALNAME:Agenda do Vinho
X-ORIGINAL-URL:https://agendadovinho.com.br
X-WR-CALDESC:Eventos para Agenda do Vinho
BEGIN:VEVENT
DTSTART;TZID=America/Sao_Paulo:20200617T200000
DTEND;TZID=America/Sao_Paulo:20200617T200000
DTSTAMP:20260425T231623
CREATED:20200617T182522Z
LAST-MODIFIED:20200617T182522Z
UID:14290-1592424000-1592424000@agendadovinho.com.br
SUMMARY:Região Sul - Serra Gaúcha e Campos de Cima da Serra
DESCRIPTION:17/06 – 20h \n
URL:https://agendadovinho.com.br/event/regiao-sul-serra-gaucha-e-campos-de-cima-da-serra/
LOCATION:Instagram
CATEGORIES:Curso técnico,Online
ATTACH;FMTTYPE=image/jpeg:https://agendadovinho.com.br/wp-content/uploads/2020/06/enoconexao_170620.jpg
END:VEVENT
END:VCALENDAR