BEGIN:VCALENDAR
VERSION:2.0
PRODID:-//Agenda do Vinho - ECPv4.9.0//NONSGML v1.0//EN
CALSCALE:GREGORIAN
METHOD:PUBLISH
X-WR-CALNAME:Agenda do Vinho
X-ORIGINAL-URL:https://agendadovinho.com.br
X-WR-CALDESC:Eventos para Agenda do Vinho
BEGIN:VEVENT
DTSTART;TZID=America/Sao_Paulo:20240601T163000
DTEND;TZID=America/Sao_Paulo:20240601T163000
DTSTAMP:20260420T180745
CREATED:20240508T181303Z
LAST-MODIFIED:20240508T181303Z
UID:20072-1717259400-1717259400@agendadovinho.com.br
SUMMARY:Rafa Lobo em Cunha na Vinícola Monte Boa Vista - SUNSET WINE
DESCRIPTION:
URL:https://agendadovinho.com.br/event/rafa-lobo-em-cunha-na-vinicola-monte-boa-vista-sunset-wine/
LOCATION:Vinícola Monte Boa Vista\, Rodovia Salvador Pacetti - Boa Vista\, Cunha\, SP\, 12530-000\, Brasil
CATEGORIES:Outros,SP - Demais cidades
ATTACH;FMTTYPE=image/png:https://agendadovinho.com.br/wp-content/uploads/2024/05/sunset-wine_010624.png
END:VEVENT
END:VCALENDAR