BEGIN:VCALENDAR
VERSION:2.0
PRODID:-//Agenda do Vinho - ECPv4.9.0//NONSGML v1.0//EN
CALSCALE:GREGORIAN
METHOD:PUBLISH
X-WR-CALNAME:Agenda do Vinho
X-ORIGINAL-URL:https://agendadovinho.com.br
X-WR-CALDESC:Eventos para Agenda do Vinho
BEGIN:VEVENT
DTSTART;TZID=America/Sao_Paulo:20240504T120000
DTEND;TZID=America/Sao_Paulo:20240504T230000
DTSTAMP:20260420T085711
CREATED:20240415T153443Z
LAST-MODIFIED:20240415T153443Z
UID:19909-1714824000-1714863600@agendadovinho.com.br
SUMMARY:QUINTAL | Wine Argentina | 04/05 - 12h
DESCRIPTION:
URL:https://agendadovinho.com.br/event/quintal-wine-argentina-04-05-12h/
LOCATION:Quintal do Chalé\, Av Mário Werneck\, 530\, Belo Horizonte\, MG\, Brasil
CATEGORIES:Degustação,MG - Belo Horizonte
ATTACH;FMTTYPE=image/jpeg:https://agendadovinho.com.br/wp-content/uploads/2024/04/wine-argentina_040524.jpg
END:VEVENT
END:VCALENDAR