BEGIN:VCALENDAR
VERSION:2.0
PRODID:-//Agenda do Vinho - ECPv4.9.0//NONSGML v1.0//EN
CALSCALE:GREGORIAN
METHOD:PUBLISH
X-WR-CALNAME:Agenda do Vinho
X-ORIGINAL-URL:https://agendadovinho.com.br
X-WR-CALDESC:Eventos para Agenda do Vinho
BEGIN:VEVENT
DTSTART;TZID=America/Sao_Paulo:20200430T193000
DTEND;TZID=America/Sao_Paulo:20200430T193000
DTSTAMP:20260426T040320
CREATED:20200430T145639Z
LAST-MODIFIED:20200430T145639Z
UID:13015-1588275000-1588275000@agendadovinho.com.br
SUMMARY:Quinta dos Iniciantes: Vinhos tintos
DESCRIPTION:30/04 – 19:30 \n
URL:https://agendadovinho.com.br/event/quinta-dos-iniciantes-vinhos-tintos/
LOCATION:Instagram
CATEGORIES:Curso técnico,Online
ATTACH;FMTTYPE=image/jpeg:https://agendadovinho.com.br/wp-content/uploads/2020/04/winemasterbr_300420.jpg
END:VEVENT
END:VCALENDAR