BEGIN:VCALENDAR
VERSION:2.0
PRODID:-//Agenda do Vinho - ECPv4.9.0//NONSGML v1.0//EN
CALSCALE:GREGORIAN
METHOD:PUBLISH
X-WR-CALNAME:Agenda do Vinho
X-ORIGINAL-URL:https://agendadovinho.com.br
X-WR-CALDESC:Eventos para Agenda do Vinho
BEGIN:VEVENT
DTSTART;TZID=America/Sao_Paulo:20200416T193000
DTEND;TZID=America/Sao_Paulo:20200416T193000
DTSTAMP:20260425T171942
CREATED:20200416T162540Z
LAST-MODIFIED:20200416T162540Z
UID:12589-1587065400-1587065400@agendadovinho.com.br
SUMMARY:Quinta dos Iniciantes: Vinhos Brancos
DESCRIPTION:Você vai comprar um Vinho Branco e\, diante da infinidade de estilos\, percebe que essa não é uma missão tão simples\, né?⁣\n⁣\n🎯 Então você precisa assistir à Aula 4 da Quinta dos Iniciantes\, dia 16/04 às 19h30m!⁣\n⁣\n🙂 Sua próxima compra de Vinho Branco não será mais a mesma\, pois você vai conseguir escolher muito mais rápido e melhor exatamente o que você precisa! \n
URL:https://agendadovinho.com.br/event/quinta-dos-iniciantes-vinhos-brancos/
LOCATION:Instagram
CATEGORIES:Curso técnico,Online
ATTACH;FMTTYPE=image/jpeg:https://agendadovinho.com.br/wp-content/uploads/2020/04/winemasterbr_160420.jpg
END:VEVENT
END:VCALENDAR