BEGIN:VCALENDAR
VERSION:2.0
PRODID:-//Agenda do Vinho - ECPv4.9.0//NONSGML v1.0//EN
CALSCALE:GREGORIAN
METHOD:PUBLISH
X-WR-CALNAME:Agenda do Vinho
X-ORIGINAL-URL:https://agendadovinho.com.br
X-WR-CALDESC:Eventos para Agenda do Vinho
BEGIN:VEVENT
DTSTART;TZID=America/Sao_Paulo:20200618T183000
DTEND;TZID=America/Sao_Paulo:20200618T183000
DTSTAMP:20260426T004845
CREATED:20200618T154327Z
LAST-MODIFIED:20200618T154327Z
UID:14337-1592505000-1592505000@agendadovinho.com.br
SUMMARY:Queulat Gran Reserva
DESCRIPTION:18/06 – 18:30 \n
URL:https://agendadovinho.com.br/event/queulat-gran-reserva/
LOCATION:Instagram
CATEGORIES:Curso técnico,Online
ATTACH;FMTTYPE=image/jpeg:https://agendadovinho.com.br/wp-content/uploads/2020/06/dianap.oliveira_180620.jpg
END:VEVENT
END:VCALENDAR