BEGIN:VCALENDAR
VERSION:2.0
PRODID:-//Agenda do Vinho - ECPv4.9.0//NONSGML v1.0//EN
CALSCALE:GREGORIAN
METHOD:PUBLISH
X-WR-CALNAME:Agenda do Vinho
X-ORIGINAL-URL:https://agendadovinho.com.br
X-WR-CALDESC:Eventos para Agenda do Vinho
BEGIN:VEVENT
DTSTART;TZID=America/Sao_Paulo:20200508T190000
DTEND;TZID=America/Sao_Paulo:20200508T190000
DTSTAMP:20260426T005403
CREATED:20200505T155626Z
LAST-MODIFIED:20200505T155626Z
UID:13162-1588964400-1588964400@agendadovinho.com.br
SUMMARY:Quer ampliar seu paladar e não sabe por onde começar?
DESCRIPTION:08/05 – 19h. \n
URL:https://agendadovinho.com.br/event/quer-ampliar-seu-paladar-e-nao-sabe-por-onde-comecar/
LOCATION:Instagram
CATEGORIES:Curso técnico,Online
ATTACH;FMTTYPE=image/jpeg:https://agendadovinho.com.br/wp-content/uploads/2020/05/emporiodocury_080520.jpg
END:VEVENT
END:VCALENDAR