BEGIN:VCALENDAR
VERSION:2.0
PRODID:-//Agenda do Vinho - ECPv4.9.0//NONSGML v1.0//EN
CALSCALE:GREGORIAN
METHOD:PUBLISH
X-WR-CALNAME:Agenda do Vinho
X-ORIGINAL-URL:https://agendadovinho.com.br
X-WR-CALDESC:Eventos para Agenda do Vinho
BEGIN:VEVENT
DTSTART;TZID=America/Sao_Paulo:20200915T200000
DTEND;TZID=America/Sao_Paulo:20200915T200000
DTSTAMP:20260425T151348
CREATED:20200825T151953Z
LAST-MODIFIED:20200825T152127Z
UID:15790-1600200000-1600200000@agendadovinho.com.br
SUMMARY:Queijos e Vinhos
DESCRIPTION:15/set – 20:00 \n
URL:https://agendadovinho.com.br/event/queijos-e-vinhos-3/
LOCATION:Vídeo conferência
CATEGORIES:Curso técnico,Online
ATTACH;FMTTYPE=image/jpeg:https://agendadovinho.com.br/wp-content/uploads/2020/08/duvalewinetasting_150920.jpg
END:VEVENT
END:VCALENDAR