BEGIN:VCALENDAR
VERSION:2.0
PRODID:-//Agenda do Vinho - ECPv4.9.0//NONSGML v1.0//EN
CALSCALE:GREGORIAN
METHOD:PUBLISH
X-WR-CALNAME:Agenda do Vinho
X-ORIGINAL-URL:https://agendadovinho.com.br
X-WR-CALDESC:Eventos para Agenda do Vinho
BEGIN:VEVENT
DTSTART;TZID=America/Sao_Paulo:20200415T210000
DTEND;TZID=America/Sao_Paulo:20200415T210000
DTSTAMP:20260426T035913
CREATED:20200415T152738Z
LAST-MODIFIED:20200415T152738Z
UID:12556-1586984400-1586984400@agendadovinho.com.br
SUMMARY:Quarta do vinho
DESCRIPTION:Dia 15/04\, ás 21:00 horas\, @winelover_br e @@robertobirindelli farão um bate-papo descontraído entre uma taça e outra . \n
URL:https://agendadovinho.com.br/event/quarta-do-vinho/
LOCATION:Instagram
CATEGORIES:Curso técnico,Online
ATTACH;FMTTYPE=image/jpeg:https://agendadovinho.com.br/wp-content/uploads/2020/04/winelover_br_150420.jpg
END:VEVENT
END:VCALENDAR