BEGIN:VCALENDAR
VERSION:2.0
PRODID:-//Agenda do Vinho - ECPv4.9.0//NONSGML v1.0//EN
CALSCALE:GREGORIAN
METHOD:PUBLISH
X-WR-CALNAME:Agenda do Vinho
X-ORIGINAL-URL:https://agendadovinho.com.br
X-WR-CALDESC:Eventos para Agenda do Vinho
BEGIN:VEVENT
DTSTART;TZID=America/Sao_Paulo:20200415T193000
DTEND;TZID=America/Sao_Paulo:20200415T193000
DTSTAMP:20260426T040200
CREATED:20200408T154135Z
LAST-MODIFIED:20200408T154135Z
UID:12402-1586979000-1586979000@agendadovinho.com.br
SUMMARY:Problemas nas vinhas: quais são?
DESCRIPTION:A Eno Cultura falará sobre os problemas mais comumente encontrados nas vinhas. \n
URL:https://agendadovinho.com.br/event/problemas-nas-vinhas-quais-sao/
LOCATION:Instagram
CATEGORIES:Curso técnico,Online
ATTACH;FMTTYPE=image/jpeg:https://agendadovinho.com.br/wp-content/uploads/2020/04/eno_cultura_080420.jpg
END:VEVENT
END:VCALENDAR