BEGIN:VCALENDAR
VERSION:2.0
PRODID:-//Agenda do Vinho - ECPv4.9.0//NONSGML v1.0//EN
CALSCALE:GREGORIAN
METHOD:PUBLISH
X-WR-CALNAME:Agenda do Vinho
X-ORIGINAL-URL:https://agendadovinho.com.br
X-WR-CALDESC:Eventos para Agenda do Vinho
BEGIN:VEVENT
DTSTART;TZID=America/Sao_Paulo:20200519T210000
DTEND;TZID=America/Sao_Paulo:20200519T210000
DTSTAMP:20260426T040200
CREATED:20200519T155315Z
LAST-MODIFIED:20200519T155315Z
UID:13523-1589922000-1589922000@agendadovinho.com.br
SUMMARY:Posso beber vinho sem entender de vinho?
DESCRIPTION:19/05 – 21h \n
URL:https://agendadovinho.com.br/event/posso-beber-vinho-sem-entender-de-vinho/
LOCATION:Instagram
CATEGORIES:Curso técnico,Online
ATTACH;FMTTYPE=image/jpeg:https://agendadovinho.com.br/wp-content/uploads/2020/05/davinha_aovinho_190520.jpg
END:VEVENT
END:VCALENDAR