BEGIN:VCALENDAR
VERSION:2.0
PRODID:-//Agenda do Vinho - ECPv4.9.0//NONSGML v1.0//EN
CALSCALE:GREGORIAN
METHOD:PUBLISH
X-WR-CALNAME:Agenda do Vinho
X-ORIGINAL-URL:https://agendadovinho.com.br
X-WR-CALDESC:Eventos para Agenda do Vinho
BEGIN:VEVENT
DTSTART;TZID=America/Sao_Paulo:20210729T190000
DTEND;TZID=America/Sao_Paulo:20210729T210000
DTSTAMP:20260420T095628
CREATED:20210705T192753Z
LAST-MODIFIED:20210705T192753Z
UID:17582-1627585200-1627592400@agendadovinho.com.br
SUMMARY:Papo com Vinho ao Vivo - Edição Inverno
DESCRIPTION:29/jul – 19:00 \n
URL:https://agendadovinho.com.br/event/papo-com-vinho-ao-vivo-edicao-inverno/
LOCATION:Youtube
CATEGORIES:Curso técnico,Online
ATTACH;FMTTYPE=image/jpeg:https://agendadovinho.com.br/wp-content/uploads/2021/07/evino_290721.jpg
END:VEVENT
END:VCALENDAR