BEGIN:VCALENDAR
VERSION:2.0
PRODID:-//Agenda do Vinho - ECPv4.9.0//NONSGML v1.0//EN
CALSCALE:GREGORIAN
METHOD:PUBLISH
X-WR-CALNAME:Agenda do Vinho
X-ORIGINAL-URL:https://agendadovinho.com.br
X-WR-CALDESC:Eventos para Agenda do Vinho
BEGIN:VEVENT
DTSTART;TZID=America/Sao_Paulo:20210515T161500
DTEND;TZID=America/Sao_Paulo:20210515T170000
DTSTAMP:20260422T154112
CREATED:20200108T191545Z
LAST-MODIFIED:20200804T142718Z
UID:10471-1621095300-1621098000@agendadovinho.com.br
SUMMARY:Palestra: Vinhos da Puglia
DESCRIPTION:Palestra Vinhos da Puglia\ncom Alessandro Moretti – Paraju Vinhos \nA Palestra terá 40 minutos de duração\, sendo 25 minutos de apresentação e 15 de degustação. \n  \n
URL:https://agendadovinho.com.br/event/palestra-vinhos-da-puglia/
LOCATION:Vitória Hotel Concept Campinas\, Av. José de Souza Campos\, 425 - Nova Campinas\, Campinas - SP\, 13025-320\, Campinas\, SP\, 13025-320\, Brasil
CATEGORIES:Curso técnico,SP - Demais cidades
ATTACH;FMTTYPE=image/jpeg:https://agendadovinho.com.br/wp-content/uploads/2020/01/vinhos-da-puglia_160520.jpg
END:VEVENT
END:VCALENDAR