BEGIN:VCALENDAR
VERSION:2.0
PRODID:-//Agenda do Vinho - ECPv4.9.0//NONSGML v1.0//EN
CALSCALE:GREGORIAN
METHOD:PUBLISH
X-WR-CALNAME:Agenda do Vinho
X-ORIGINAL-URL:https://agendadovinho.com.br
X-WR-CALDESC:Eventos para Agenda do Vinho
BEGIN:VEVENT
DTSTART;TZID=America/Sao_Paulo:20200730T170000
DTEND;TZID=America/Sao_Paulo:20200730T170000
DTSTAMP:20260423T092159
CREATED:20200730T155830Z
LAST-MODIFIED:20200730T155830Z
UID:15364-1596128400-1596128400@agendadovinho.com.br
SUMMARY:Os vinhos portugueses no Brasil
DESCRIPTION:30/jul – 17:00 \n
URL:https://agendadovinho.com.br/event/os-vinhos-portugueses-no-brasil/
LOCATION:Instagram
CATEGORIES:Curso técnico,Online
ATTACH;FMTTYPE=image/jpeg:https://agendadovinho.com.br/wp-content/uploads/2020/07/pro_vinho_br_300720.jpg
END:VEVENT
END:VCALENDAR