BEGIN:VCALENDAR
VERSION:2.0
PRODID:-//Agenda do Vinho - ECPv4.9.0//NONSGML v1.0//EN
CALSCALE:GREGORIAN
METHOD:PUBLISH
X-WR-CALNAME:Agenda do Vinho
X-ORIGINAL-URL:https://agendadovinho.com.br
X-WR-CALDESC:Eventos para Agenda do Vinho
BEGIN:VEVENT
DTSTART;TZID=America/Sao_Paulo:20200930T191500
DTEND;TZID=America/Sao_Paulo:20200930T191500
DTSTAMP:20260423T015654
CREATED:20200930T154051Z
LAST-MODIFIED:20200930T154051Z
UID:16072-1601493300-1601493300@agendadovinho.com.br
SUMMARY:Os vinhos de Primus
DESCRIPTION:30/set – 19:15 \n
URL:https://agendadovinho.com.br/event/os-vinhos-de-primus/
LOCATION:Instagram
CATEGORIES:Curso técnico,Online
ATTACH;FMTTYPE=image/jpeg:https://agendadovinho.com.br/wp-content/uploads/2020/09/totalvinhos_300920.jpg
END:VEVENT
END:VCALENDAR