BEGIN:VCALENDAR
VERSION:2.0
PRODID:-//Agenda do Vinho - ECPv4.9.0//NONSGML v1.0//EN
CALSCALE:GREGORIAN
METHOD:PUBLISH
X-WR-CALNAME:Agenda do Vinho
X-ORIGINAL-URL:https://agendadovinho.com.br
X-WR-CALDESC:Eventos para Agenda do Vinho
BEGIN:VEVENT
DTSTART;TZID=America/Sao_Paulo:20200501T200000
DTEND;TZID=America/Sao_Paulo:20200501T200000
DTSTAMP:20260426T023131
CREATED:20200501T151705Z
LAST-MODIFIED:20200501T151705Z
UID:13073-1588363200-1588363200@agendadovinho.com.br
SUMMARY:Os belos vinhos de altitude do Brasil
DESCRIPTION:01/05\, às 20h. \n
URL:https://agendadovinho.com.br/event/os-belos-vinhos-de-altitude-do-brasil/
LOCATION:Instagram
CATEGORIES:Curso técnico,Online
ATTACH;FMTTYPE=image/jpeg:https://agendadovinho.com.br/wp-content/uploads/2020/05/davinha_aovinho_010520.jpg
END:VEVENT
END:VCALENDAR