BEGIN:VCALENDAR
VERSION:2.0
PRODID:-//Agenda do Vinho - ECPv4.9.0//NONSGML v1.0//EN
CALSCALE:GREGORIAN
METHOD:PUBLISH
X-WR-CALNAME:Agenda do Vinho
X-ORIGINAL-URL:https://agendadovinho.com.br
X-WR-CALDESC:Eventos para Agenda do Vinho
BEGIN:VEVENT
DTSTART;TZID=America/Sao_Paulo:20210318T200000
DTEND;TZID=America/Sao_Paulo:20210318T200000
DTSTAMP:20260423T015936
CREATED:20210315T151007Z
LAST-MODIFIED:20210315T151007Z
UID:17232-1616097600-1616097600@agendadovinho.com.br
SUMMARY:Os 3 mosqueteiros dos vinhos de altitude
DESCRIPTION:18/mar – 20:00 \n
URL:https://agendadovinho.com.br/event/os-3-mosqueteiros-dos-vinhos-de-altitude/
LOCATION:Instagram
CATEGORIES:Curso técnico,Online
ATTACH;FMTTYPE=image/jpeg:https://agendadovinho.com.br/wp-content/uploads/2021/03/davinha_aovinho_180321.jpg
END:VEVENT
END:VCALENDAR