BEGIN:VCALENDAR
VERSION:2.0
PRODID:-//Agenda do Vinho - ECPv4.9.0//NONSGML v1.0//EN
CALSCALE:GREGORIAN
METHOD:PUBLISH
X-WR-CALNAME:Agenda do Vinho
X-ORIGINAL-URL:https://agendadovinho.com.br
X-WR-CALDESC:Eventos para Agenda do Vinho
BEGIN:VEVENT
DTSTART;TZID=America/Sao_Paulo:20240509T190000
DTEND;TZID=America/Sao_Paulo:20240509T220000
DTSTAMP:20260420T103713
CREATED:20240425T145903Z
LAST-MODIFIED:20240425T145903Z
UID:19987-1715281200-1715292000@agendadovinho.com.br
SUMMARY:Oficina de Taças e Open Wine Praiou Edição Dia das Mães
DESCRIPTION:
URL:https://agendadovinho.com.br/event/oficina-de-tacas-e-open-wine-praiou-edicao-dia-das-maes/
LOCATION:Praiou Beach Sport\, R. José Rodrigues Pereira\, 707 - Estoril\, Belo Horizonte\, MG\, 30455-640\, Brasil
CATEGORIES:MG - Belo Horizonte,Outros
ATTACH;FMTTYPE=image/jpeg:https://agendadovinho.com.br/wp-content/uploads/2024/04/oficina-de-tacas-e-open-wine_090524.jpg
END:VEVENT
END:VCALENDAR