BEGIN:VCALENDAR
VERSION:2.0
PRODID:-//Agenda do Vinho - ECPv4.9.0//NONSGML v1.0//EN
CALSCALE:GREGORIAN
METHOD:PUBLISH
X-WR-CALNAME:Agenda do Vinho
X-ORIGINAL-URL:https://agendadovinho.com.br
X-WR-CALDESC:Eventos para Agenda do Vinho
BEGIN:VEVENT
DTSTART;TZID=America/Sao_Paulo:20200307T140000
DTEND;TZID=America/Sao_Paulo:20200307T160000
DTSTAMP:20260425T214724
CREATED:20200209T153257Z
LAST-MODIFIED:20200209T153257Z
UID:11237-1583589600-1583596800@agendadovinho.com.br
SUMMARY:Oficina de degustação às cegas
DESCRIPTION:Já provou vinhos LITERALMENTE às cegas? Aqui\, não é o vinho que vai ser vendado\, vai ser você! 😎 \nO aspecto visual de um vinho pode ser capaz de influenciar muito nossa percepção olfativa e gustativa. \nFrequentemente associamos cores mais púrpura a frutas negras\, cores mais intensas a vinhos mais encorpados e por aí vai. Mas como seria nossa percepção se de repente não pudéssemos ver o que tem na taça? \nNesta oficina vamos falar sobre aromas e características gustativas e o que elas podem nos dizer sobre o vinho\, em termos de castas utilizadas\, clima e método de elaboração.\nE\, na prática\, vamos degustar 6 vinhos divididos em três pares comparados! \nVamos participar desta experiência? 😉 \nOlha como vai ser:\n🏠 – Sala de Vinhos/Araújo Mateus – Av. Jequitaia\, 1669\, Comércio. 📅 – 7 de março (sábado)\n🕓 – 14h às 16h\n👨‍🏫 – Alexandre Takei (WSET Diploma Student e French Wine Scholar)\n🍷- 6 rótulos degustados\n🧀 – Tábua de pães e queijos 💵 – R$ 220 / Inscrições via depósito 📞 – (71)99981-7151 (whatsapp) \n
URL:https://agendadovinho.com.br/event/oficina-de-degustacao-as-cegas/
LOCATION:Sala de Vinhos – Araújo Mateus\, Av. Jequitaia 1669\, Comércio\, Salvador\, BA\, Brasil
CATEGORIES:BA - Salvador,Curso técnico
ATTACH;FMTTYPE=image/jpeg:https://agendadovinho.com.br/wp-content/uploads/2020/02/degustação-às-cegas_140320.jpg
END:VEVENT
END:VCALENDAR