BEGIN:VCALENDAR
VERSION:2.0
PRODID:-//Agenda do Vinho - ECPv4.9.0//NONSGML v1.0//EN
CALSCALE:GREGORIAN
METHOD:PUBLISH
X-WR-CALNAME:Agenda do Vinho
X-ORIGINAL-URL:https://agendadovinho.com.br
X-WR-CALDESC:Eventos para Agenda do Vinho
BEGIN:VEVENT
DTSTART;TZID=America/Sao_Paulo:20200713T170000
DTEND;TZID=America/Sao_Paulo:20200713T170000
DTSTAMP:20260425T213444
CREATED:20200711T193635Z
LAST-MODIFIED:20200711T193635Z
UID:14954-1594659600-1594659600@agendadovinho.com.br
SUMMARY:O vinho sem fronteiras
DESCRIPTION:13/jul – 17:00 \n
URL:https://agendadovinho.com.br/event/o-vinho-sem-fronteiras/
LOCATION:Instagram
CATEGORIES:Curso técnico,Online
ATTACH;FMTTYPE=image/jpeg:https://agendadovinho.com.br/wp-content/uploads/2020/07/pro_vinho_br_130720.jpg
END:VEVENT
END:VCALENDAR