BEGIN:VCALENDAR
VERSION:2.0
PRODID:-//Agenda do Vinho - ECPv4.9.0//NONSGML v1.0//EN
CALSCALE:GREGORIAN
METHOD:PUBLISH
X-WR-CALNAME:Agenda do Vinho
X-ORIGINAL-URL:https://agendadovinho.com.br
X-WR-CALDESC:Eventos para Agenda do Vinho
BEGIN:VEVENT
DTSTART;TZID=America/Sao_Paulo:20200820T180000
DTEND;TZID=America/Sao_Paulo:20200820T180000
DTSTAMP:20260423T062928
CREATED:20200820T163750Z
LAST-MODIFIED:20200820T163750Z
UID:15711-1597946400-1597946400@agendadovinho.com.br
SUMMARY:O vinho do Nordeste
DESCRIPTION:20/ago – 18:00 \n
URL:https://agendadovinho.com.br/event/o-vinho-do-nordeste/
LOCATION:Instagram
CATEGORIES:Curso técnico,Online
ATTACH;FMTTYPE=image/jpeg:https://agendadovinho.com.br/wp-content/uploads/2020/08/pro_vinho_br_200820.jpg
END:VEVENT
END:VCALENDAR