BEGIN:VCALENDAR
VERSION:2.0
PRODID:-//Agenda do Vinho - ECPv4.9.0//NONSGML v1.0//EN
CALSCALE:GREGORIAN
METHOD:PUBLISH
X-WR-CALNAME:Agenda do Vinho
X-ORIGINAL-URL:https://agendadovinho.com.br
X-WR-CALDESC:Eventos para Agenda do Vinho
BEGIN:VEVENT
DTSTART;TZID=America/Sao_Paulo:20200416T183000
DTEND;TZID=America/Sao_Paulo:20200416T183000
DTSTAMP:20260426T013330
CREATED:20200413T144827Z
LAST-MODIFIED:20200413T144827Z
UID:12474-1587061800-1587061800@agendadovinho.com.br
SUMMARY:O valor e o sabor da Brasilidade na contemporaneidade
DESCRIPTION:O valor e o sabor da Brasilidade na contemporaneidade \n  \n
URL:https://agendadovinho.com.br/event/o-valor-e-o-sabor-da-brasilidade-na-contemporaneidade/
LOCATION:Instagram
CATEGORIES:Online,Outros
ATTACH;FMTTYPE=image/jpeg:https://agendadovinho.com.br/wp-content/uploads/2020/04/alexandre_fialho_oficial_160420.jpg
END:VEVENT
END:VCALENDAR