BEGIN:VCALENDAR
VERSION:2.0
PRODID:-//Agenda do Vinho - ECPv4.9.0//NONSGML v1.0//EN
CALSCALE:GREGORIAN
METHOD:PUBLISH
X-WR-CALNAME:Agenda do Vinho
X-ORIGINAL-URL:https://agendadovinho.com.br
X-WR-CALDESC:Eventos para Agenda do Vinho
BEGIN:VEVENT
DTSTART;TZID=America/Sao_Paulo:20210121T194500
DTEND;TZID=America/Sao_Paulo:20210121T220000
DTSTAMP:20260423T080734
CREATED:20210119T180002Z
LAST-MODIFIED:20210119T180002Z
UID:17113-1611258300-1611266400@agendadovinho.com.br
SUMMARY:O TREINO DO VINHO - EXCLUSIVO PARA MULHERES - JAN-FEV 2021 VINHOS PARA O VERÃO
DESCRIPTION:21/jan – 19:45 \n
URL:https://agendadovinho.com.br/event/o-treino-do-vinho-exclusivo-para-mulheres-jan-fev-2021-vinhos-para-o-verao/
LOCATION:Vídeo conferência
CATEGORIES:Curso técnico,Online
ATTACH;FMTTYPE=image/png:https://agendadovinho.com.br/wp-content/uploads/2021/01/o-treino-do-vinho_210121.png
END:VEVENT
END:VCALENDAR