BEGIN:VCALENDAR
VERSION:2.0
PRODID:-//Agenda do Vinho - ECPv4.9.0//NONSGML v1.0//EN
CALSCALE:GREGORIAN
METHOD:PUBLISH
X-WR-CALNAME:Agenda do Vinho
X-ORIGINAL-URL:https://agendadovinho.com.br
X-WR-CALDESC:Eventos para Agenda do Vinho
BEGIN:VEVENT
DTSTART;TZID=America/Sao_Paulo:20200304T193000
DTEND;TZID=America/Sao_Paulo:20200304T223000
DTSTAMP:20260425T214956
CREATED:20200228T184133Z
LAST-MODIFIED:20200228T184133Z
UID:11481-1583350200-1583361000@agendadovinho.com.br
SUMMARY:O que é que a Argentina tem | Sommelière Ana Borges
DESCRIPTION:A Argentina é responsável por uma das produções de vinho mais importantes do mundo. Neste workshop\, no dia 4 de março\, a Ana Borges vai além das uvas tradicionais\, trazendo conhecimentos sobre as regiões produtoras e os novos tipos de vinhos adorados pelos hermanos.\nA sommelière do Alma irá apresentar seis rótulos em uma degustação exclusiva. A noite será acompanhada do jantar harmonizado assinado pelo chef Caio Soter. \nhttps://lets.events/e/o-que-e-que-a-argentina-tem-sommeliere-ana-borges/ \n
URL:https://agendadovinho.com.br/event/o-que-e-que-a-argentina-tem-sommeliere-ana-borges/
LOCATION:Alma Chef | Casa de Gastronomia\, R. Curitiba\, 2081\, Belo Horizonte\, MG\, Brasil
CATEGORIES:Curso técnico,MG - Belo Horizonte
ATTACH;FMTTYPE=image/jpeg:https://agendadovinho.com.br/wp-content/uploads/2020/02/argentina_040320.jpg
END:VEVENT
END:VCALENDAR