BEGIN:VCALENDAR
VERSION:2.0
PRODID:-//Agenda do Vinho - ECPv4.9.0//NONSGML v1.0//EN
CALSCALE:GREGORIAN
METHOD:PUBLISH
X-WR-CALNAME:Agenda do Vinho
X-ORIGINAL-URL:https://agendadovinho.com.br
X-WR-CALDESC:Eventos para Agenda do Vinho
BEGIN:VEVENT
DTSTART;TZID=America/Sao_Paulo:20200417T200000
DTEND;TZID=America/Sao_Paulo:20200417T200000
DTSTAMP:20260425T214147
CREATED:20200416T175257Z
LAST-MODIFIED:20200416T175257Z
UID:12638-1587153600-1587153600@agendadovinho.com.br
SUMMARY:O que é o vinho?
DESCRIPTION:O que é o vinho? – 17/04 – 20:00 \n
URL:https://agendadovinho.com.br/event/o-que-e-o-vinho/
LOCATION:Instagram
CATEGORIES:Curso técnico,Online
ATTACH;FMTTYPE=image/jpeg:https://agendadovinho.com.br/wp-content/uploads/2020/04/guil.balbino_170420.jpg
END:VEVENT
END:VCALENDAR