BEGIN:VCALENDAR
VERSION:2.0
PRODID:-//Agenda do Vinho - ECPv4.9.0//NONSGML v1.0//EN
CALSCALE:GREGORIAN
METHOD:PUBLISH
X-WR-CALNAME:Agenda do Vinho
X-ORIGINAL-URL:https://agendadovinho.com.br
X-WR-CALDESC:Eventos para Agenda do Vinho
BEGIN:VEVENT
DTSTART;TZID=America/Sao_Paulo:20200421T160000
DTEND;TZID=America/Sao_Paulo:20200421T160000
DTSTAMP:20260426T024152
CREATED:20200420T204419Z
LAST-MODIFIED:20200420T204419Z
UID:12690-1587484800-1587484800@agendadovinho.com.br
SUMMARY:O pequeno produtor de vinho brasileiro
DESCRIPTION:Pequenos produtores de vinhos brasileiros\, desafios\, mercado e pandemia. \n
URL:https://agendadovinho.com.br/event/o-pequeno-produtor-de-vinho-brasileiro/
LOCATION:Instagram
CATEGORIES:Curso técnico,Online
ATTACH;FMTTYPE=image/jpeg:https://agendadovinho.com.br/wp-content/uploads/2020/04/vinicola_helios_210420.jpg
END:VEVENT
END:VCALENDAR