BEGIN:VCALENDAR
VERSION:2.0
PRODID:-//Agenda do Vinho - ECPv4.9.0//NONSGML v1.0//EN
CALSCALE:GREGORIAN
METHOD:PUBLISH
X-WR-CALNAME:Agenda do Vinho
X-ORIGINAL-URL:https://agendadovinho.com.br
X-WR-CALDESC:Eventos para Agenda do Vinho
BEGIN:VEVENT
DTSTART;TZID=America/Sao_Paulo:20200616T180000
DTEND;TZID=America/Sao_Paulo:20200616T180000
DTSTAMP:20260425T153435
CREATED:20200616T161750Z
LAST-MODIFIED:20200616T161750Z
UID:14245-1592330400-1592330400@agendadovinho.com.br
SUMMARY:O papel dos jovens enólogos nos grandes vinhos argentinos
DESCRIPTION:16/06 – 18h \n
URL:https://agendadovinho.com.br/event/o-papel-dos-jovens-enologos-nos-grandes-vinhos-argentinos/
LOCATION:Instagram
CATEGORIES:Curso técnico,Online
ATTACH;FMTTYPE=image/jpeg:https://agendadovinho.com.br/wp-content/uploads/2020/06/suzanabarelli_160620.jpg
END:VEVENT
END:VCALENDAR