BEGIN:VCALENDAR
VERSION:2.0
PRODID:-//Agenda do Vinho - ECPv4.9.0//NONSGML v1.0//EN
CALSCALE:GREGORIAN
METHOD:PUBLISH
X-WR-CALNAME:Agenda do Vinho
X-ORIGINAL-URL:https://agendadovinho.com.br
X-WR-CALDESC:Eventos para Agenda do Vinho
BEGIN:VEVENT
DTSTART;TZID=America/Sao_Paulo:20200729T173000
DTEND;TZID=America/Sao_Paulo:20200729T173000
DTSTAMP:20260425T215017
CREATED:20200729T152530Z
LAST-MODIFIED:20200729T152530Z
UID:15336-1596043800-1596043800@agendadovinho.com.br
SUMMARY:O mercado de vinhos no primeiro semestre
DESCRIPTION:29/jul – 17:30 \n
URL:https://agendadovinho.com.br/event/o-mercado-de-vinhos-no-primeiro-semestre/
LOCATION:Instagram
CATEGORIES:Curso técnico,Online
ATTACH;FMTTYPE=image/jpeg:https://agendadovinho.com.br/wp-content/uploads/2020/07/suzanabarelli_290720.jpg
END:VEVENT
END:VCALENDAR