BEGIN:VCALENDAR
VERSION:2.0
PRODID:-//Agenda do Vinho - ECPv4.9.0//NONSGML v1.0//EN
CALSCALE:GREGORIAN
METHOD:PUBLISH
X-WR-CALNAME:Agenda do Vinho
X-ORIGINAL-URL:https://agendadovinho.com.br
X-WR-CALDESC:Eventos para Agenda do Vinho
BEGIN:VEVENT
DTSTART;TZID=America/Sao_Paulo:20200826T190000
DTEND;TZID=America/Sao_Paulo:20200826T190000
DTSTAMP:20260423T092922
CREATED:20200710T144942Z
LAST-MODIFIED:20200710T144942Z
UID:14928-1598468400-1598468400@agendadovinho.com.br
SUMMARY:O melhor de Portugal
DESCRIPTION:26/ago – 19:00 \n
URL:https://agendadovinho.com.br/event/o-melhor-de-portugal/
LOCATION:Instagram
CATEGORIES:Curso técnico,Online
ATTACH;FMTTYPE=image/jpeg:https://agendadovinho.com.br/wp-content/uploads/2020/07/ffescoladevinho_260820.jpg
END:VEVENT
END:VCALENDAR