BEGIN:VCALENDAR
VERSION:2.0
PRODID:-//Agenda do Vinho - ECPv4.9.0//NONSGML v1.0//EN
CALSCALE:GREGORIAN
METHOD:PUBLISH
X-WR-CALNAME:Agenda do Vinho
X-ORIGINAL-URL:https://agendadovinho.com.br
X-WR-CALDESC:Eventos para Agenda do Vinho
BEGIN:VEVENT
DTSTART;TZID=America/Sao_Paulo:20200514T180000
DTEND;TZID=America/Sao_Paulo:20200514T180000
DTSTAMP:20260426T021927
CREATED:20200514T152844Z
LAST-MODIFIED:20200514T152844Z
UID:13449-1589479200-1589479200@agendadovinho.com.br
SUMMARY:Novo mundo: vinhos\, viagens e experiências
DESCRIPTION:14/05 – 18h \n
URL:https://agendadovinho.com.br/event/novo-mundo-vinhos-viagens-e-experiencias/
LOCATION:Instagram
CATEGORIES:Curso técnico,Online
ATTACH;FMTTYPE=image/jpeg:https://agendadovinho.com.br/wp-content/uploads/2020/05/amo.vinho_140520.jpg
END:VEVENT
END:VCALENDAR