BEGIN:VCALENDAR
VERSION:2.0
PRODID:-//Agenda do Vinho - ECPv4.9.0//NONSGML v1.0//EN
CALSCALE:GREGORIAN
METHOD:PUBLISH
X-WR-CALNAME:Agenda do Vinho
X-ORIGINAL-URL:https://agendadovinho.com.br
X-WR-CALDESC:Eventos para Agenda do Vinho
BEGIN:VEVENT
DTSTART;TZID=America/Sao_Paulo:20200903T180000
DTEND;TZID=America/Sao_Paulo:20200903T180000
DTSTAMP:20260425T151648
CREATED:20200903T204209Z
LAST-MODIFIED:20200903T204209Z
UID:15827-1599156000-1599156000@agendadovinho.com.br
SUMMARY:Novas formas de conhecer vinhos
DESCRIPTION:03/set – 18:00 \n
URL:https://agendadovinho.com.br/event/novas-formas-de-conhecer-vinhos/
LOCATION:Instagram
CATEGORIES:Curso técnico,Online
ATTACH;FMTTYPE=image/jpeg:https://agendadovinho.com.br/wp-content/uploads/2020/09/pro_vinho_br_030920.jpg
END:VEVENT
END:VCALENDAR