BEGIN:VCALENDAR
VERSION:2.0
PRODID:-//Agenda do Vinho - ECPv4.9.0//NONSGML v1.0//EN
CALSCALE:GREGORIAN
METHOD:PUBLISH
X-WR-CALNAME:Agenda do Vinho
X-ORIGINAL-URL:https://agendadovinho.com.br
X-WR-CALDESC:Eventos para Agenda do Vinho
BEGIN:VEVENT
DTSTART;TZID=America/Sao_Paulo:20200329T100000
DTEND;TZID=America/Sao_Paulo:20200329T170000
DTSTAMP:20260425T182551
CREATED:20200219T224527Z
LAST-MODIFIED:20200219T224527Z
UID:11453-1585476000-1585501200@agendadovinho.com.br
SUMMARY:Nova Confraternização Confraria do Vinho ® 4º Edição
DESCRIPTION:Atividades: Desta vez vamos receber a benção das famílias e logo após\, iniciaremos nosso evento. Ocasião maravilhosa para juntarmos as famílias e nos revermos. Homenagem aos aniversariantes. Vinhos a vontade. \nTragam uns pratos de alimentos para confraternizarmos. Não bebe vinho? Fique á vontade para trazer a bebida de sua preferência. \nAssistência social: Estaremos arrecadando donativos: alimentos não perecíveis\, as doações serão encaminhadas para caridade. Deus abençoe. \n
URL:https://agendadovinho.com.br/event/nova-confraternizacao-confraria-do-vinho-4o-edicao/
LOCATION:Estrada Caminho do Mar N° 7530 km 36\,5\, Estrada Caminho do Mar N° 7530 km 36\,5\, São Bernardo do Campo\, SP\, Brasil
CATEGORIES:Outros,SP - Demais cidades
ATTACH;FMTTYPE=image/png:https://agendadovinho.com.br/wp-content/uploads/2020/02/4-Confraternização.png
END:VEVENT
END:VCALENDAR