BEGIN:VCALENDAR
VERSION:2.0
PRODID:-//Agenda do Vinho - ECPv4.9.0//NONSGML v1.0//EN
CALSCALE:GREGORIAN
METHOD:PUBLISH
X-WR-CALNAME:Agenda do Vinho
X-ORIGINAL-URL:https://agendadovinho.com.br
X-WR-CALDESC:Eventos para Agenda do Vinho
BEGIN:VEVENT
DTSTART;TZID=America/Sao_Paulo:20240305T193000
DTEND;TZID=America/Sao_Paulo:20240305T193000
DTSTAMP:20260420T120105
CREATED:20240223T151656Z
LAST-MODIFIED:20240223T151656Z
UID:19348-1709667000-1709667000@agendadovinho.com.br
SUMMARY:Noites de harmonização
DESCRIPTION:
URL:https://agendadovinho.com.br/event/noites-de-harmonizacao/
LOCATION:Tartoni Ristorante\, Avenida Túlio de Rose\, 80\, Passo d'Areia\, Porto Alegre\, RS\, Brasil
CATEGORIES:Jantar harmonizado,RS - Porto Alegre
ATTACH;FMTTYPE=image/jpeg:https://agendadovinho.com.br/wp-content/uploads/2024/02/noites-de-harmonização_050324.jpg
END:VEVENT
END:VCALENDAR