BEGIN:VCALENDAR
VERSION:2.0
PRODID:-//Agenda do Vinho - ECPv4.9.0//NONSGML v1.0//EN
CALSCALE:GREGORIAN
METHOD:PUBLISH
X-WR-CALNAME:Agenda do Vinho
X-ORIGINAL-URL:https://agendadovinho.com.br
X-WR-CALDESC:Eventos para Agenda do Vinho
BEGIN:VEVENT
DTSTART;TZID=America/Sao_Paulo:20200207T193000
DTEND;TZID=America/Sao_Paulo:20200207T213000
DTSTAMP:20260425T222346
CREATED:20200203T181503Z
LAST-MODIFIED:20200203T181503Z
UID:11018-1581103800-1581111000@agendadovinho.com.br
SUMMARY:Noite Portuguesa com Arroz de Bacalhau e Vinho para Harmonizar
DESCRIPTION:O Zona Sul traz o Amarildo Feitosa que é chef do restaurante Tasca Filho da Mãe\, especializado em cozinha portuguesa. Receita harmonizada com o vinho português Quinta do Carmo Dom Martinho. O jantar inclui 2 taças de bebida para cada inscrito. \nDOS R$60\,00 QUE VOCÊ IRÁ PAGAR\, R$30\,00 SERÁ REVERTIDO EM COMPRAS no dia do evento\, através da entrega de um cartão presente que poderá ser usado quando desejar em qualquer loja ou no site do Zona Sul. \n
URL:https://agendadovinho.com.br/event/noite-portuguesa-com-arroz-de-bacalhau-e-vinho-para-harmonizar/
LOCATION:Supermercado Zona Sul Santa Mônica\, Av. das Américas\, 8888 - Barra da Tijuca\, Rio de Janeiro\, RJ\, 22793-082\, Brasil
CATEGORIES:Jantar harmonizado,RJ - Rio de Janeiro
ATTACH;FMTTYPE=image/jpeg:https://agendadovinho.com.br/wp-content/uploads/2020/02/noite-portuguesa_070220.jpg
END:VEVENT
END:VCALENDAR