BEGIN:VCALENDAR
VERSION:2.0
PRODID:-//Agenda do Vinho - ECPv4.9.0//NONSGML v1.0//EN
CALSCALE:GREGORIAN
METHOD:PUBLISH
X-WR-CALNAME:Agenda do Vinho
X-ORIGINAL-URL:https://agendadovinho.com.br
X-WR-CALDESC:Eventos para Agenda do Vinho
BEGIN:VEVENT
DTSTART;TZID=America/Sao_Paulo:20200311T170000
DTEND;TZID=America/Sao_Paulo:20200311T200000
DTSTAMP:20260423T175734
CREATED:20200310T163907Z
LAST-MODIFIED:20200310T163907Z
UID:11998-1583946000-1583956800@agendadovinho.com.br
SUMMARY:Noite Latina & Open de Vinho no Diô
DESCRIPTION:Open de Vinho & Discotecagem ritmos Latinos \n\n\n\nMeu coração faz chica chica boom chic com o Open de Vinho do Diô Wine Bar.\nToda quarta\, de 17h às 20h\, tem sempre um vinho branco\, um tinto e um rosé para você degustar à vontade por apenas R$ 39\,90 por pessoa.\nE não é só isso. Toda quarta também tem uma superdiscotecagem pra você curtir nossos vinhos com a melhor trilha sonora e nesta quarta (11) tem uma noite latina caliente com o DJ @thiagohrborges. \nJá estamos esperando por você.\nOpen de Vinho – 17h às 20h.\nMúsica Latina com DJ @thiagohrborges – 19h às 21h.\n\n\n\n
URL:https://agendadovinho.com.br/event/noite-latina-open-de-vinho-no-dio/
LOCATION:Diô Wine Bar\, Av.Marechal Deodoro\, 686 Vila Urbana - container 14 - Centro\, Curitiba\, PR\, 80010-010\, Brasil
CATEGORIES:Degustação,PR - Curitiba
ATTACH;FMTTYPE=image/jpeg:https://agendadovinho.com.br/wp-content/uploads/2020/03/noite-latina_110320.jpg
END:VEVENT
END:VCALENDAR