BEGIN:VCALENDAR
VERSION:2.0
PRODID:-//Agenda do Vinho - ECPv4.9.0//NONSGML v1.0//EN
CALSCALE:GREGORIAN
METHOD:PUBLISH
X-WR-CALNAME:Agenda do Vinho
X-ORIGINAL-URL:https://agendadovinho.com.br
X-WR-CALDESC:Eventos para Agenda do Vinho
BEGIN:VEVENT
DTSTART;TZID=America/Sao_Paulo:20200317T203000
DTEND;TZID=America/Sao_Paulo:20200317T220000
DTSTAMP:20260425T165330
CREATED:20200302T171957Z
LAST-MODIFIED:20200302T171957Z
UID:11655-1584477000-1584482400@agendadovinho.com.br
SUMMARY:Noite de Vinhos e Queijos
DESCRIPTION:Workshop com Ana Mokdeci (@davinha_aovinho)\nInclui degustação de 5  vinhos e 5 queijos\n
URL:https://agendadovinho.com.br/event/noite-de-vinhos-e-queijos/
LOCATION:Vinho & Ponto Juiz de Fora\, Ladeira Alexandre Leonel\, 221\, Cascatinha\, Juiz de Fora\, MG\, Brasil
CATEGORIES:Degustação,MG - Demais cidades
ATTACH;FMTTYPE=image/jpeg:https://agendadovinho.com.br/wp-content/uploads/2020/03/vinhos-e-queijos_170320.jpg
END:VEVENT
END:VCALENDAR