BEGIN:VCALENDAR
VERSION:2.0
PRODID:-//Agenda do Vinho - ECPv4.9.0//NONSGML v1.0//EN
CALSCALE:GREGORIAN
METHOD:PUBLISH
X-WR-CALNAME:Agenda do Vinho
X-ORIGINAL-URL:https://agendadovinho.com.br
X-WR-CALDESC:Eventos para Agenda do Vinho
BEGIN:VEVENT
DTSTART;TZID=America/Sao_Paulo:20200316T190000
DTEND;TZID=America/Sao_Paulo:20200316T220000
DTSTAMP:20260425T183028
CREATED:20200228T184014Z
LAST-MODIFIED:20200228T184014Z
UID:11480-1584385200-1584396000@agendadovinho.com.br
SUMMARY:Nível 1 ISG
DESCRIPTION:Nível 1 ISG • Curso em 8 aulas. 1a etapa da formação de Sommelier Internacional da ISG\, International Sommelier Guild\, uma das mais respeitadas escolas de sommelier do mundo\, em + de 15 países. + de 60 turmas realizadas no Brasil.\nSó precisa gostar de vinhos pra participar. Não requer qualquer conhecimento nem ser profissional. Nesta 1a etapa\, você vai analisar e degustar tecnicamente 48 vinhos entre tintos\, brancos\, roses\, espumantes e fortificados. No conteúdo\, história do vinho\, cultivo da uva\, como os vinhos são produzidos\, técnicas de harmonização\, degustação e serviço de vinhos. \nA gestão pedagógica do curso é feita diretamente pela ISG nos EUA\, onde tambem\, sao impressos os certificados aos aprovados para envio aos alunos aqui no Brasil. \nEm Salvador\, início em 16/03/2020\, 19 às 22 horas\, no Lúcius Restaurante.\nSaiba + e inscreva-se.\nhttps://sommacademy.engaged.com.br/turma/nivel-1-isg-salvador-curso/salvador2020 \n
URL:https://agendadovinho.com.br/event/nivel-1-isg/
LOCATION:Lucius Restaurante\, R. Dom Marcos Teixeira\, 25 - Barra\, Salvador\, BA\, 40140-280\, Brasil
CATEGORIES:BA - Salvador,Curso técnico
ATTACH;FMTTYPE=image/jpeg:https://agendadovinho.com.br/wp-content/uploads/2020/02/nível-1-ISG_-160320.jpg
END:VEVENT
END:VCALENDAR