BEGIN:VCALENDAR
VERSION:2.0
PRODID:-//Agenda do Vinho - ECPv4.9.0//NONSGML v1.0//EN
CALSCALE:GREGORIAN
METHOD:PUBLISH
X-WR-CALNAME:Agenda do Vinho
X-ORIGINAL-URL:https://agendadovinho.com.br
X-WR-CALDESC:Eventos para Agenda do Vinho
BEGIN:VEVENT
DTSTART;TZID=America/Sao_Paulo:20200307T191500
DTEND;TZID=America/Sao_Paulo:20200307T213000
DTSTAMP:20260425T183303
CREATED:20200303T150427Z
LAST-MODIFIED:20200303T150427Z
UID:11689-1583608500-1583616600@agendadovinho.com.br
SUMMARY:MWine e Harmonizando com Arte-Momento Van Gogh
DESCRIPTION:A MWine e Harmonizando com Arte apresentam *”Momento Van Gogh”*\, dia 7 de março\, às19h15\, na MWine. 🎨🍷 \nO evento consiste na união perfeita entre uma explanação da vida e obra de Van Gogh – por Jack Barroso\, sommelier e estudiosa da História da Arte – e a degustação de quatro vinhos maravilhosos da Campanha Gaúcha – conduzido pela equipe MWine. \nOs vinhos selecionados – servidos duas garrafas de cada – serão os seguintes: \n1) Espumante Rosé Brut Chardonnay 70% + 30% Cabernet Sauvignon – Bodega Sossego;\n2) Chardonnay 2016 – Cordilheira de Santana;\n3) Cabernet Sauvignon 2015 – Bodega Sossego;\n4) Tannat 2007 – Cordilheira de Santana. \nGostou da união entre estas duas obras de arte? \nGaranta seu ingresso pelo link do nosso site: \nhttps://www.mwine.com.br/eventos/momento-van-gogh.html \n*Vagas Limitadas!* \nEsperamos por vocês! \nPara dúvidas entre em contato com a gente: (21) 99412-6626 (whatsapp) ou (21) 3449-7630. \nA Mwine fica localizada no Flamengo\, Rua Marquês de Abrantes 170/1005 – cerca de 100 metros da estação do Metrô. \nSiga-nos no Instagram: *@mwine_br* e tenha  acesso as novidades! \n*Aproveite ao máximo a experiência MWine!🏏🍷🍷* \n
URL:https://agendadovinho.com.br/event/mwine-e-harmonizando-com-arte-momento-van-gogh/
LOCATION:MWine\, R. Marquês de Abrantes\, 170 /1005 - Flamengo\, Rio de Janeiro\, RJ\, 22230-061\, Brasil
CATEGORIES:Degustação,RJ - Rio de Janeiro
ATTACH;FMTTYPE=image/jpeg:https://agendadovinho.com.br/wp-content/uploads/2020/03/IMG-20200226-WA0019.jpg
END:VEVENT
END:VCALENDAR