BEGIN:VCALENDAR
VERSION:2.0
PRODID:-//Agenda do Vinho - ECPv4.9.0//NONSGML v1.0//EN
CALSCALE:GREGORIAN
METHOD:PUBLISH
X-WR-CALNAME:Agenda do Vinho
X-ORIGINAL-URL:https://agendadovinho.com.br
X-WR-CALDESC:Eventos para Agenda do Vinho
BEGIN:VEVENT
DTSTART;TZID=America/Sao_Paulo:20210310T193000
DTEND;TZID=America/Sao_Paulo:20210310T193000
DTSTAMP:20260423T032556
CREATED:20210308T203905Z
LAST-MODIFIED:20210308T203905Z
UID:17216-1615404600-1615404600@agendadovinho.com.br
SUMMARY:Mulheres e enologia
DESCRIPTION:10/mar – 19:30 \n
URL:https://agendadovinho.com.br/event/mulheres-e-enologia/
LOCATION:Instagram
CATEGORIES:Online,Outros
ATTACH;FMTTYPE=image/jpeg:https://agendadovinho.com.br/wp-content/uploads/2021/03/abs_df_100321.jpg
END:VEVENT
END:VCALENDAR